BEGIN:VCALENDAR
VERSION:2.0
PRODID:-//Plone.org//NONSGML plone.app.event//EN
X-WR-TIMEZONE:Europe/Berlin
BEGIN:VEVENT
SUMMARY:Al Congresso IAVCEI di Ginevra i seminari per i 25 anni dell’ING
 V
DTSTART;TZID=Europe/Berlin;VALUE=DATE-TIME:20250629T130000
DTEND;TZID=Europe/Berlin;VALUE=DATE-TIME:20250703T140000
DTSTAMP;VALUE=DATE-TIME:20260422T222549Z
UID:09b46ed04adf46e1aef7ce2ec76b1b49@www.isprambiente.gov.it
CONTACT:https://www.ingv.it/stampa-e-urp/stampa/news/5772-vulcanologia-al-
 congresso-iavcei-di-ginevra-i-seminari-per-i-25-anni-dell-ingv
CREATED;VALUE=DATE-TIME:20250630T112506Z
LAST-MODIFIED;VALUE=DATE-TIME:20250630T112511Z
URL:https://www.isprambiente.gov.it/it/attivita/museo/calendario-eventi/20
 25/al-congresso-iavcei-di-ginevra-i-seminari-per-i-25-anni-dell2019ingv
END:VEVENT
BEGIN:VTIMEZONE
TZID:Europe/Berlin
X-LIC-LOCATION:Europe/Berlin
BEGIN:DAYLIGHT
DTSTART;VALUE=DATE-TIME:20250330T030000
TZNAME:CEST
TZOFFSETFROM:+0100
TZOFFSETTO:+0200
END:DAYLIGHT
END:VTIMEZONE
END:VCALENDAR
