BEGIN:VCALENDAR
VERSION:2.0
PRODID:-//Plone.org//NONSGML plone.app.event//EN
X-WR-TIMEZONE:Europe/Berlin
BEGIN:VEVENT
SUMMARY:Al via le nuove aperture estive degli InfoPoint INGV di Stromboli 
 e Vulcano
DTSTART;TZID=Europe/Berlin;VALUE=DATE-TIME:20250630T130000
DTEND;TZID=Europe/Berlin;VALUE=DATE-TIME:20250930T140000
DTSTAMP;VALUE=DATE-TIME:20260422T210140Z
UID:9e39e17431d2467ab3859ae815373f74@www.isprambiente.gov.it
CONTACT:https://www.ingv.it/stampa-e-urp/stampa/comunicati-stampa/5775-iso
 le-eolie-al-via-le-nuove-aperture-estive-degli-infopoint-ingv-di-stromboli
 -e-vulcano
CREATED;VALUE=DATE-TIME:20250630T112618Z
LAST-MODIFIED;VALUE=DATE-TIME:20250630T112622Z
URL:https://www.isprambiente.gov.it/it/attivita/museo/calendario-eventi/20
 25/al-via-le-nuove-aperture-estive-degli-infopoint-ingv-di-stromboli-e-vul
 cano
END:VEVENT
BEGIN:VTIMEZONE
TZID:Europe/Berlin
X-LIC-LOCATION:Europe/Berlin
BEGIN:DAYLIGHT
DTSTART;VALUE=DATE-TIME:20250330T030000
TZNAME:CEST
TZOFFSETFROM:+0100
TZOFFSETTO:+0200
END:DAYLIGHT
END:VTIMEZONE
END:VCALENDAR
