BEGIN:VCALENDAR
VERSION:2.0
PRODID:-//Plone.org//NONSGML plone.app.event//EN
X-WR-TIMEZONE:Europe/Berlin
BEGIN:VEVENT
SUMMARY:Alla scoperta dei musei del futuro
DTSTART;TZID=Europe/Berlin;VALUE=DATE-TIME:20250505T080000
DTEND;TZID=Europe/Berlin;VALUE=DATE-TIME:20250616T090000
DTSTAMP;VALUE=DATE-TIME:20260422T222419Z
UID:8e299f9232674ea29c7d73c3882fa957@www.isprambiente.gov.it
CONTACT:https://www.icom-italia.org/alla-scoperta-dei-musei-del-futuro-la-
 trasformazione-digitale-tra-tecnologia-e-identita-terza-edizione/
CREATED;VALUE=DATE-TIME:20250505T065411Z
LAST-MODIFIED;VALUE=DATE-TIME:20250505T065425Z
URL:https://www.isprambiente.gov.it/it/attivita/museo/calendario-eventi/20
 25/alla-scoperta-dei-musei-del-futuro
END:VEVENT
BEGIN:VTIMEZONE
TZID:Europe/Berlin
X-LIC-LOCATION:Europe/Berlin
BEGIN:DAYLIGHT
DTSTART;VALUE=DATE-TIME:20250330T030000
TZNAME:CEST
TZOFFSETFROM:+0100
TZOFFSETTO:+0200
END:DAYLIGHT
END:VTIMEZONE
END:VCALENDAR
