BEGIN:VCALENDAR
VERSION:2.0
PRODID:-//Plone.org//NONSGML plone.app.event//EN
X-WR-TIMEZONE:Europe/Berlin
BEGIN:VEVENT
SUMMARY:Alpine flora: biodiversity and conservation
DTSTART;TZID=Europe/Berlin;VALUE=DATE-TIME:20250605T070000
DTEND;TZID=Europe/Berlin;VALUE=DATE-TIME:20250607T080000
DTSTAMP;VALUE=DATE-TIME:20260422T221411Z
UID:cf7fd4fd4da54feb9ffe9267262e49e2@www.isprambiente.gov.it
CONTACT:https://www.pngp.it/alpineflora2025
CREATED;VALUE=DATE-TIME:20250303T064331Z
LAST-MODIFIED;VALUE=DATE-TIME:20250303T064341Z
URL:https://www.isprambiente.gov.it/it/attivita/museo/calendario-eventi/20
 25/alpine-flora-biodiversity-and-conservation
END:VEVENT
BEGIN:VTIMEZONE
TZID:Europe/Berlin
X-LIC-LOCATION:Europe/Berlin
BEGIN:DAYLIGHT
DTSTART;VALUE=DATE-TIME:20250330T030000
TZNAME:CEST
TZOFFSETFROM:+0100
TZOFFSETTO:+0200
END:DAYLIGHT
END:VTIMEZONE
END:VCALENDAR
