BEGIN:VCALENDAR
VERSION:2.0
PRODID:-//Plone.org//NONSGML plone.app.event//EN
X-WR-TIMEZONE:Europe/Berlin
BEGIN:VEVENT
SUMMARY:Antiche Luci
DTSTART;TZID=Europe/Berlin;VALUE=DATE-TIME:20250801T100000
DTEND;TZID=Europe/Berlin;VALUE=DATE-TIME:20250803T110000
DTSTAMP;VALUE=DATE-TIME:20260422T205319Z
UID:d8c7d957ea564661b06d6008c5452c25@www.isprambiente.gov.it
CONTACT:https://www.valdiscalve.it/eventi/le-antiche-luci/
CREATED;VALUE=DATE-TIME:20250731T081056Z
LAST-MODIFIED;VALUE=DATE-TIME:20250731T081115Z
URL:https://www.isprambiente.gov.it/it/attivita/museo/calendario-eventi/20
 25/antiche-luci
END:VEVENT
BEGIN:VTIMEZONE
TZID:Europe/Berlin
X-LIC-LOCATION:Europe/Berlin
BEGIN:DAYLIGHT
DTSTART;VALUE=DATE-TIME:20250330T030000
TZNAME:CEST
TZOFFSETFROM:+0100
TZOFFSETTO:+0200
END:DAYLIGHT
END:VTIMEZONE
END:VCALENDAR
