BEGIN:VCALENDAR
VERSION:2.0
PRODID:-//Plone.org//NONSGML plone.app.event//EN
X-WR-TIMEZONE:Europe/Berlin
BEGIN:VEVENT
SUMMARY:Aperiscienza al Museo Galileo - Serata speciale dedicata agli unde
 r 30
DTSTART;TZID=Europe/Berlin;VALUE=DATE-TIME:20251014T130000
DTEND;TZID=Europe/Berlin;VALUE=DATE-TIME:20251014T140000
DTSTAMP;VALUE=DATE-TIME:20260422T205727Z
UID:9de260b1ccec42f7ae4f644347299026@www.isprambiente.gov.it
CONTACT:https://www.coopfirenze.it/eventi-e-progetti/eventi/grazie-a-unico
 op-firenze-e-il-museo-galileo-visita-guidata-al-mu
CREATED;VALUE=DATE-TIME:20250926T112835Z
LAST-MODIFIED;VALUE=DATE-TIME:20250926T112844Z
URL:https://www.isprambiente.gov.it/it/attivita/museo/calendario-eventi/20
 25/aperiscienza-al-museo-galileo-serata-speciale-dedicata-agli-under-30
END:VEVENT
BEGIN:VTIMEZONE
TZID:Europe/Berlin
X-LIC-LOCATION:Europe/Berlin
BEGIN:DAYLIGHT
DTSTART;VALUE=DATE-TIME:20250330T030000
TZNAME:CEST
TZOFFSETFROM:+0100
TZOFFSETTO:+0200
END:DAYLIGHT
END:VTIMEZONE
END:VCALENDAR
