BEGIN:VCALENDAR
VERSION:2.0
PRODID:-//Plone.org//NONSGML plone.app.event//EN
X-WR-TIMEZONE:Europe/Berlin
BEGIN:VEVENT
SUMMARY:APERTURE SPECIALI 2025  - MUSEI CIVICI DI VENEZIA
DTSTART;TZID=Europe/Berlin;VALUE=DATE-TIME:20250206T070000
DTEND;TZID=Europe/Berlin;VALUE=DATE-TIME:20250605T080000
DTSTAMP;VALUE=DATE-TIME:20260422T205646Z
UID:e6287ffff23140a7a2da7fe4ec31933c@www.isprambiente.gov.it
CONTACT:https://www.visitmuve.it/it/aperture-muve/
CREATED;VALUE=DATE-TIME:20250120T062510Z
LAST-MODIFIED;VALUE=DATE-TIME:20250120T062519Z
URL:https://www.isprambiente.gov.it/it/attivita/museo/calendario-eventi/20
 25/aperture-speciali-2025-musei-civici-di-venezia
END:VEVENT
BEGIN:VTIMEZONE
TZID:Europe/Berlin
X-LIC-LOCATION:Europe/Berlin
BEGIN:STANDARD
DTSTART;VALUE=DATE-TIME:20241027T020000
TZNAME:CET
TZOFFSETFROM:+0200
TZOFFSETTO:+0100
END:STANDARD
BEGIN:DAYLIGHT
DTSTART;VALUE=DATE-TIME:20250330T030000
TZNAME:CEST
TZOFFSETFROM:+0100
TZOFFSETTO:+0200
END:DAYLIGHT
END:VTIMEZONE
END:VCALENDAR
