BEGIN:VCALENDAR
VERSION:2.0
PRODID:-//Plone.org//NONSGML plone.app.event//EN
X-WR-TIMEZONE:Europe/Berlin
BEGIN:VEVENT
SUMMARY:APPI Day
DTSTART;TZID=Europe/Berlin;VALUE=DATE-TIME:20251116T090000
DTEND;TZID=Europe/Berlin;VALUE=DATE-TIME:20251116T100000
DTSTAMP;VALUE=DATE-TIME:20260422T205319Z
UID:741b57797e444a48950677515a334414@www.isprambiente.gov.it
CONTACT:https://www.museopaleontologicomontevarchi.it/events/appi-day/
CREATED;VALUE=DATE-TIME:20251112T085324Z
LAST-MODIFIED;VALUE=DATE-TIME:20251112T085334Z
URL:https://www.isprambiente.gov.it/it/attivita/museo/calendario-eventi/20
 25/appi-day
END:VEVENT
BEGIN:VTIMEZONE
TZID:Europe/Berlin
X-LIC-LOCATION:Europe/Berlin
BEGIN:STANDARD
DTSTART;VALUE=DATE-TIME:20251026T020000
TZNAME:CET
TZOFFSETFROM:+0200
TZOFFSETTO:+0100
END:STANDARD
END:VTIMEZONE
END:VCALENDAR
