BEGIN:VCALENDAR
VERSION:2.0
PRODID:-//Plone.org//NONSGML plone.app.event//EN
X-WR-TIMEZONE:Europe/Berlin
BEGIN:VEVENT
SUMMARY:Appuntamento in Via Lattea - AstronomArte
DTSTART;TZID=Europe/Berlin;VALUE=DATE-TIME:20251204T070000
DTEND;TZID=Europe/Berlin;VALUE=DATE-TIME:20251204T080000
DTSTAMP;VALUE=DATE-TIME:20260422T221609Z
UID:c97d89100f6a46ddb0c0b6c4183a268d@www.isprambiente.gov.it
CONTACT:https://www.cittadellascienza.it/calendario-eventi/evento/appuntam
 ento-in-via-lattea-astronomarte/?occurrence_id=4604
CREATED;VALUE=DATE-TIME:20251128T062433Z
LAST-MODIFIED;VALUE=DATE-TIME:20251128T062437Z
URL:https://www.isprambiente.gov.it/it/attivita/museo/calendario-eventi/20
 25/appuntamento-in-via-lattea-astronomarte
END:VEVENT
BEGIN:VTIMEZONE
TZID:Europe/Berlin
X-LIC-LOCATION:Europe/Berlin
BEGIN:STANDARD
DTSTART;VALUE=DATE-TIME:20251026T020000
TZNAME:CET
TZOFFSETFROM:+0200
TZOFFSETTO:+0100
END:STANDARD
END:VTIMEZONE
END:VCALENDAR
