BEGIN:VCALENDAR
VERSION:2.0
PRODID:-//Plone.org//NONSGML plone.app.event//EN
X-WR-TIMEZONE:Europe/Berlin
BEGIN:VEVENT
SUMMARY:AquaFarm & NovelFarm 2025
DTSTART;TZID=Europe/Berlin;VALUE=DATE-TIME:20250212T110000
DTEND;TZID=Europe/Berlin;VALUE=DATE-TIME:20250213T120000
DTSTAMP;VALUE=DATE-TIME:20260422T210130Z
UID:6ba8900fc31849de88a68ee905c144eb@www.isprambiente.gov.it
CONTACT:https://www.cnr.it/it/evento/19491
CREATED;VALUE=DATE-TIME:20250129T105031Z
LAST-MODIFIED;VALUE=DATE-TIME:20250129T105046Z
URL:https://www.isprambiente.gov.it/it/attivita/museo/calendario-eventi/20
 25/aquafarm-novelfarm-2025
END:VEVENT
BEGIN:VTIMEZONE
TZID:Europe/Berlin
X-LIC-LOCATION:Europe/Berlin
BEGIN:STANDARD
DTSTART;VALUE=DATE-TIME:20241027T020000
TZNAME:CET
TZOFFSETFROM:+0200
TZOFFSETTO:+0100
END:STANDARD
END:VTIMEZONE
END:VCALENDAR
