BEGIN:VCALENDAR
VERSION:2.0
PRODID:-//Plone.org//NONSGML plone.app.event//EN
X-WR-TIMEZONE:Europe/Berlin
BEGIN:VEVENT
SUMMARY:Arriva a Roma il Beacon Satellite Symposium 2025
DTSTART;TZID=Europe/Berlin;VALUE=DATE-TIME:20251110T070000
DTEND;TZID=Europe/Berlin;VALUE=DATE-TIME:20251114T080000
DTSTAMP;VALUE=DATE-TIME:20260422T222420Z
UID:fec191c68f8e445f8304f1c5addb17be@www.isprambiente.gov.it
CONTACT:https://www.ingv.it/stampa-urp/ufficio-stampa/news/ingv-arriva-a-r
 oma-il-beacon-satellite-symposium-2025
CREATED;VALUE=DATE-TIME:20251107T064459Z
LAST-MODIFIED;VALUE=DATE-TIME:20251107T064504Z
URL:https://www.isprambiente.gov.it/it/attivita/museo/calendario-eventi/20
 25/arriva-a-roma-il-beacon-satellite-symposium-2025
END:VEVENT
BEGIN:VTIMEZONE
TZID:Europe/Berlin
X-LIC-LOCATION:Europe/Berlin
BEGIN:STANDARD
DTSTART;VALUE=DATE-TIME:20251026T020000
TZNAME:CET
TZOFFSETFROM:+0200
TZOFFSETTO:+0100
END:STANDARD
END:VTIMEZONE
END:VCALENDAR
