BEGIN:VCALENDAR
VERSION:2.0
PRODID:-//Plone.org//NONSGML plone.app.event//EN
X-WR-TIMEZONE:Europe/Berlin
BEGIN:VEVENT
SUMMARY:Arriva nelle sale il documentario di Geopop sui vulcani italiani r
 ealizzato con il contributo dell’INGV
DTSTART;TZID=Europe/Berlin;VALUE=DATE-TIME:20250523T100000
DTEND;TZID=Europe/Berlin;VALUE=DATE-TIME:20250523T110000
DTSTAMP;VALUE=DATE-TIME:20260422T210309Z
UID:a06c53f5855f4ebc9ac241ffb97cf630@www.isprambiente.gov.it
CONTACT:https://www.ingv.it/stampa-e-urp/stampa/comunicati-stampa/5749-cin
 ema-arriva-nelle-sale-il-documentario-di-geopop-sui-vulcani-italiani-reali
 zzato-con-il-contributo-dell-ingv
CREATED;VALUE=DATE-TIME:20250520T083544Z
LAST-MODIFIED;VALUE=DATE-TIME:20250520T083555Z
URL:https://www.isprambiente.gov.it/it/attivita/museo/calendario-eventi/20
 25/arriva-nelle-sale-il-documentario-di-geopop-sui-vulcani-italiani-realiz
 zato-con-il-contributo-dell2019ingv
END:VEVENT
BEGIN:VTIMEZONE
TZID:Europe/Berlin
X-LIC-LOCATION:Europe/Berlin
BEGIN:DAYLIGHT
DTSTART;VALUE=DATE-TIME:20250330T030000
TZNAME:CEST
TZOFFSETFROM:+0100
TZOFFSETTO:+0200
END:DAYLIGHT
END:VTIMEZONE
END:VCALENDAR
