BEGIN:VCALENDAR
VERSION:2.0
PRODID:-//Plone.org//NONSGML plone.app.event//EN
X-WR-TIMEZONE:Europe/Berlin
BEGIN:VEVENT
SUMMARY:Arti e Scienze. Incontri a due voci dai musei fiorentini
DTSTART;TZID=Europe/Berlin;VALUE=DATE-TIME:20250321T070000
DTEND;TZID=Europe/Berlin;VALUE=DATE-TIME:20250328T080000
DTSTAMP;VALUE=DATE-TIME:20260422T205604Z
UID:edd90b0c502d40ce8500e971b18dd22d@www.isprambiente.gov.it
CONTACT:https://www.museogalileo.it/it/attivita/news/arti-e-scienze-incont
 ri-a-due-voci-dai-musei-fiorentini.html
CREATED;VALUE=DATE-TIME:20250314T062625Z
LAST-MODIFIED;VALUE=DATE-TIME:20250314T062633Z
URL:https://www.isprambiente.gov.it/it/attivita/museo/calendario-eventi/20
 25/arti-e-scienze-incontri-a-due-voci-dai-musei-fiorentini
END:VEVENT
BEGIN:VTIMEZONE
TZID:Europe/Berlin
X-LIC-LOCATION:Europe/Berlin
BEGIN:STANDARD
DTSTART;VALUE=DATE-TIME:20241027T020000
TZNAME:CET
TZOFFSETFROM:+0200
TZOFFSETTO:+0100
END:STANDARD
END:VTIMEZONE
END:VCALENDAR
