BEGIN:VCALENDAR
VERSION:2.0
PRODID:-//Plone.org//NONSGML plone.app.event//EN
X-WR-TIMEZONE:Europe/Berlin
BEGIN:VEVENT
SUMMARY:Assofesta 2025
DTSTART;TZID=Europe/Berlin;VALUE=DATE-TIME:20251113T070000
DTEND;TZID=Europe/Berlin;VALUE=DATE-TIME:20251113T080000
DTSTAMP;VALUE=DATE-TIME:20260422T205350Z
UID:5102919e586f4f25aae8efb7250cff26@www.isprambiente.gov.it
CONTACT:https://geologiaeturismo.it/activity/assofesta-2025/
CREATED;VALUE=DATE-TIME:20251023T053743Z
LAST-MODIFIED;VALUE=DATE-TIME:20251023T053748Z
URL:https://www.isprambiente.gov.it/it/attivita/museo/calendario-eventi/20
 25/assofesta-2025
END:VEVENT
BEGIN:VTIMEZONE
TZID:Europe/Berlin
X-LIC-LOCATION:Europe/Berlin
BEGIN:STANDARD
DTSTART;VALUE=DATE-TIME:20251026T020000
TZNAME:CET
TZOFFSETFROM:+0200
TZOFFSETTO:+0100
END:STANDARD
END:VTIMEZONE
END:VCALENDAR
