BEGIN:VCALENDAR
VERSION:2.0
PRODID:-//Plone.org//NONSGML plone.app.event//EN
X-WR-TIMEZONE:Europe/Berlin
BEGIN:VEVENT
SUMMARY:Avviso Webinar - The Evolution of Plate Tectonics over the past 2.
 5 Billion Years
DTSTART;TZID=Europe/Berlin;VALUE=DATE-TIME:20251210T080000
DTEND;TZID=Europe/Berlin;VALUE=DATE-TIME:20251210T090000
DTSTAMP;VALUE=DATE-TIME:20260422T205607Z
UID:71f7eccaa84d47dcb96d23cd8de16b80@www.isprambiente.gov.it
CREATED;VALUE=DATE-TIME:20251205T074852Z
LAST-MODIFIED;VALUE=DATE-TIME:20251205T074856Z
URL:https://www.isprambiente.gov.it/it/attivita/museo/calendario-eventi/20
 25/avviso-webinar-the-evolution-of-plate-tectonics-over-the-past-2-5-billi
 on-years
END:VEVENT
BEGIN:VTIMEZONE
TZID:Europe/Berlin
X-LIC-LOCATION:Europe/Berlin
BEGIN:STANDARD
DTSTART;VALUE=DATE-TIME:20251026T020000
TZNAME:CET
TZOFFSETFROM:+0200
TZOFFSETTO:+0100
END:STANDARD
END:VTIMEZONE
END:VCALENDAR
