BEGIN:VCALENDAR
VERSION:2.0
PRODID:-//Plone.org//NONSGML plone.app.event//EN
X-WR-TIMEZONE:Europe/Berlin
BEGIN:VEVENT
SUMMARY:BIODIVERSITÀ IN LAGUNA DI VENEZIA - FAMIGLIE AL MUSEO
DTSTART;TZID=Europe/Berlin;VALUE=DATE-TIME:20251109T070000
DTEND;TZID=Europe/Berlin;VALUE=DATE-TIME:20251109T080000
DTSTAMP;VALUE=DATE-TIME:20260422T223328Z
UID:e1fadb0ecde14a4daffbcb0890737c34@www.isprambiente.gov.it
CONTACT:https://www.anms.it/eventi/dettaglio_evento/7673
CREATED;VALUE=DATE-TIME:20251107T065113Z
LAST-MODIFIED;VALUE=DATE-TIME:20251107T065117Z
URL:https://www.isprambiente.gov.it/it/attivita/museo/calendario-eventi/20
 25/biodiversita-in-laguna-di-venezia-famiglie-al-museo
END:VEVENT
BEGIN:VTIMEZONE
TZID:Europe/Berlin
X-LIC-LOCATION:Europe/Berlin
BEGIN:STANDARD
DTSTART;VALUE=DATE-TIME:20251026T020000
TZNAME:CET
TZOFFSETFROM:+0200
TZOFFSETTO:+0100
END:STANDARD
END:VTIMEZONE
END:VCALENDAR
