BEGIN:VCALENDAR
VERSION:2.0
PRODID:-//Plone.org//NONSGML plone.app.event//EN
X-WR-TIMEZONE:Europe/Berlin
BEGIN:VEVENT
SUMMARY:Biodiversità nell'Antropocene\, tra intelligenza artificiale e cu
 ra della casa comune
DTSTART;TZID=Europe/Berlin;VALUE=DATE-TIME:20250605T090000
DTEND;TZID=Europe/Berlin;VALUE=DATE-TIME:20250605T100000
DTSTAMP;VALUE=DATE-TIME:20260422T210140Z
UID:5f6863aab97e4bb3adef6144de8d6dfc@www.isprambiente.gov.it
CREATED;VALUE=DATE-TIME:20250529T072255Z
LAST-MODIFIED;VALUE=DATE-TIME:20250529T072259Z
URL:https://www.isprambiente.gov.it/it/attivita/museo/calendario-eventi/20
 25/biodiversita-nellantropocene-tra-intelligenza-artificiale-e-cura-della-
 casa-comune
END:VEVENT
BEGIN:VTIMEZONE
TZID:Europe/Berlin
X-LIC-LOCATION:Europe/Berlin
BEGIN:DAYLIGHT
DTSTART;VALUE=DATE-TIME:20250330T030000
TZNAME:CEST
TZOFFSETFROM:+0100
TZOFFSETTO:+0200
END:DAYLIGHT
END:VTIMEZONE
END:VCALENDAR
