BEGIN:VCALENDAR
VERSION:2.0
PRODID:-//Plone.org//NONSGML plone.app.event//EN
X-WR-TIMEZONE:Europe/Berlin
BEGIN:VEVENT
SUMMARY:Biodiversità\, sistemi del cibo\, educazione: il ruolo delle isti
 tuzioni culturali
DTSTART;TZID=Europe/Berlin;VALUE=DATE-TIME:20250522T080000
DTEND;TZID=Europe/Berlin;VALUE=DATE-TIME:20250522T090000
DTSTAMP;VALUE=DATE-TIME:20260422T210309Z
UID:42ceab948f86497c8a5347202412a0e0@www.isprambiente.gov.it
CREATED;VALUE=DATE-TIME:20250505T064944Z
LAST-MODIFIED;VALUE=DATE-TIME:20250505T064949Z
URL:https://www.isprambiente.gov.it/it/attivita/museo/calendario-eventi/20
 25/biodiversita-sistemi-del-cibo-educazione-il-ruolo-delle-istituzioni-cul
 turali
END:VEVENT
BEGIN:VTIMEZONE
TZID:Europe/Berlin
X-LIC-LOCATION:Europe/Berlin
BEGIN:DAYLIGHT
DTSTART;VALUE=DATE-TIME:20250330T030000
TZNAME:CEST
TZOFFSETFROM:+0100
TZOFFSETTO:+0200
END:DAYLIGHT
END:VTIMEZONE
END:VCALENDAR
