BEGIN:VCALENDAR
VERSION:2.0
PRODID:-//Plone.org//NONSGML plone.app.event//EN
X-WR-TIMEZONE:Europe/Berlin
BEGIN:VEVENT
SUMMARY:BOLOGNA MINERAL SHOW
DTSTART;TZID=Europe/Berlin;VALUE=DATE-TIME:20250314T070000
DTEND;TZID=Europe/Berlin;VALUE=DATE-TIME:20250316T080000
DTSTAMP;VALUE=DATE-TIME:20260422T222017Z
UID:dd2beb7da1044644b684ee4662c625e8@www.isprambiente.gov.it
CREATED;VALUE=DATE-TIME:20250303T064902Z
LAST-MODIFIED;VALUE=DATE-TIME:20250303T064911Z
URL:https://www.isprambiente.gov.it/it/attivita/museo/calendario-eventi/20
 25/bologna-mineral-show
END:VEVENT
BEGIN:VTIMEZONE
TZID:Europe/Berlin
X-LIC-LOCATION:Europe/Berlin
BEGIN:STANDARD
DTSTART;VALUE=DATE-TIME:20241027T020000
TZNAME:CET
TZOFFSETFROM:+0200
TZOFFSETTO:+0100
END:STANDARD
END:VTIMEZONE
END:VCALENDAR
