BEGIN:VCALENDAR
VERSION:2.0
PRODID:-//Plone.org//NONSGML plone.app.event//EN
X-WR-TIMEZONE:Europe/Berlin
BEGIN:VEVENT
SUMMARY:Call for Thesis – Musei e patrimoni culturali innovativi attrave
 rso il digitale: giovani e ricerche a confronto
DTSTART;TZID=Europe/Berlin;VALUE=DATE-TIME:20251015T090000
DTEND;TZID=Europe/Berlin;VALUE=DATE-TIME:20251015T100000
DTSTAMP;VALUE=DATE-TIME:20260422T210904Z
UID:f3f948333b7549a89adb5e8b5c8b2556@www.isprambiente.gov.it
CONTACT:https://www.icom-italia.org/icom-learning-center-call-for-thesis-d
 igitale-e-patrimonio-culturale-giovani-ricerche-per-musei-innovativi-deadl
 ine-15-ottobre-2025/
CREATED;VALUE=DATE-TIME:20250908T074235Z
LAST-MODIFIED;VALUE=DATE-TIME:20250908T074245Z
URL:https://www.isprambiente.gov.it/it/attivita/museo/calendario-eventi/20
 25/call-for-thesis-2013-musei-e-patrimoni-culturali-innovativi-attraverso-
 il-digitale-giovani-e-ricerche-a-confronto
END:VEVENT
BEGIN:VTIMEZONE
TZID:Europe/Berlin
X-LIC-LOCATION:Europe/Berlin
BEGIN:DAYLIGHT
DTSTART;VALUE=DATE-TIME:20250330T030000
TZNAME:CEST
TZOFFSETFROM:+0100
TZOFFSETTO:+0200
END:DAYLIGHT
END:VTIMEZONE
END:VCALENDAR
