BEGIN:VCALENDAR
VERSION:2.0
PRODID:-//Plone.org//NONSGML plone.app.event//EN
X-WR-TIMEZONE:Europe/Berlin
BEGIN:VEVENT
SUMMARY:Campi Estivi al Museo 2025
DTSTART;TZID=Europe/Berlin;VALUE=DATE-TIME:20250609T110000
DTEND;TZID=Europe/Berlin;VALUE=DATE-TIME:20250704T120000
DTSTAMP;VALUE=DATE-TIME:20260422T221506Z
UID:a166b94bb9024c4eadb3d0973880bba7@www.isprambiente.gov.it
CONTACT:https://www.msn.unipi.it/it/eventi/campi-estivi-al-museo-2025/
CREATED;VALUE=DATE-TIME:20250606T091306Z
LAST-MODIFIED;VALUE=DATE-TIME:20250606T091310Z
URL:https://www.isprambiente.gov.it/it/attivita/museo/calendario-eventi/20
 25/campi-estivi-al-museo-2025
END:VEVENT
BEGIN:VTIMEZONE
TZID:Europe/Berlin
X-LIC-LOCATION:Europe/Berlin
BEGIN:DAYLIGHT
DTSTART;VALUE=DATE-TIME:20250330T030000
TZNAME:CEST
TZOFFSETFROM:+0100
TZOFFSETTO:+0200
END:DAYLIGHT
END:VTIMEZONE
END:VCALENDAR
