BEGIN:VCALENDAR
VERSION:2.0
PRODID:-//Plone.org//NONSGML plone.app.event//EN
X-WR-TIMEZONE:Europe/Berlin
BEGIN:VEVENT
SUMMARY:CAMPI PASQUALI AL MUSEO 2025 – INCONTRI RAVVICINATI CON I DINOSA
 URI
DTSTART;TZID=Europe/Berlin;VALUE=DATE-TIME:20250418T070000
DTEND;TZID=Europe/Berlin;VALUE=DATE-TIME:20250422T080000
DTSTAMP;VALUE=DATE-TIME:20260422T210252Z
UID:1d247d643f16432cb7dd2e4a3eea117f@www.isprambiente.gov.it
CONTACT:https://www.feroniaguidetoscana.it/estivi-2024/pasquali-al-museo/
CREATED;VALUE=DATE-TIME:20250414T052405Z
LAST-MODIFIED;VALUE=DATE-TIME:20250414T052434Z
URL:https://www.isprambiente.gov.it/it/attivita/museo/calendario-eventi/20
 25/campi-pasquali-al-museo-2025-2013-incontri-ravvicinati-con-i-dinosauri
END:VEVENT
BEGIN:VTIMEZONE
TZID:Europe/Berlin
X-LIC-LOCATION:Europe/Berlin
BEGIN:DAYLIGHT
DTSTART;VALUE=DATE-TIME:20250330T030000
TZNAME:CEST
TZOFFSETFROM:+0100
TZOFFSETTO:+0200
END:DAYLIGHT
END:VTIMEZONE
END:VCALENDAR
