BEGIN:VCALENDAR
VERSION:2.0
PRODID:-//Plone.org//NONSGML plone.app.event//EN
X-WR-TIMEZONE:Europe/Berlin
BEGIN:VEVENT
SUMMARY:Ciclo di incontri Materiali resistenti. Musei\, oggetti\, narrazio
 ni nell’Ottantesimo della Liberazione
DTSTART;TZID=Europe/Berlin;VALUE=DATE-TIME:20250414T070000
DTEND;TZID=Europe/Berlin;VALUE=DATE-TIME:20251028T080000
DTSTAMP;VALUE=DATE-TIME:20260422T210911Z
UID:f7d31c0d5dc4498e82f00c9cfe138208@www.isprambiente.gov.it
CONTACT:https://www.icom-italia.org/ciclo-di-incontri-materiali-resistenti
 -musei-oggetti-narrazioni-nellottantesimo-della-liberazione-a-cura-del-gdl
 -musei-storici/
CREATED;VALUE=DATE-TIME:20250414T052541Z
LAST-MODIFIED;VALUE=DATE-TIME:20250414T052550Z
URL:https://www.isprambiente.gov.it/it/attivita/museo/calendario-eventi/20
 25/ciclo-di-incontri-materiali-resistenti-musei-oggetti-narrazioni-nell201
 9ottantesimo-della-liberazione
END:VEVENT
BEGIN:VTIMEZONE
TZID:Europe/Berlin
X-LIC-LOCATION:Europe/Berlin
BEGIN:DAYLIGHT
DTSTART;VALUE=DATE-TIME:20250330T030000
TZNAME:CEST
TZOFFSETFROM:+0100
TZOFFSETTO:+0200
END:DAYLIGHT
BEGIN:STANDARD
DTSTART;VALUE=DATE-TIME:20251026T020000
TZNAME:CET
TZOFFSETFROM:+0200
TZOFFSETTO:+0100
END:STANDARD
END:VTIMEZONE
END:VCALENDAR
