BEGIN:VCALENDAR
VERSION:2.0
PRODID:-//Plone.org//NONSGML plone.app.event//EN
X-WR-TIMEZONE:Europe/Berlin
BEGIN:VEVENT
SUMMARY:Cinema e media audiovisivi come linguaggi della contemporaneità n
 ei musei italiani
DTSTART;TZID=Europe/Berlin;VALUE=DATE-TIME:20250619T110000
DTEND;TZID=Europe/Berlin;VALUE=DATE-TIME:20250619T120000
DTSTAMP;VALUE=DATE-TIME:20260422T210309Z
UID:f7b8493a069c412a99a3d566cc5172a5@www.isprambiente.gov.it
CONTACT:https://www.icom-italia.org/wp-content/uploads/2025/06/Programma-w
 ebinar-cinema-4.pdf
CREATED;VALUE=DATE-TIME:20250606T091053Z
LAST-MODIFIED;VALUE=DATE-TIME:20250606T091100Z
URL:https://www.isprambiente.gov.it/it/attivita/museo/calendario-eventi/20
 25/cinema-e-media-audiovisivi-come-linguaggi-della-contemporaneita-nei-mus
 ei-italiani
END:VEVENT
BEGIN:VTIMEZONE
TZID:Europe/Berlin
X-LIC-LOCATION:Europe/Berlin
BEGIN:DAYLIGHT
DTSTART;VALUE=DATE-TIME:20250330T030000
TZNAME:CEST
TZOFFSETFROM:+0100
TZOFFSETTO:+0200
END:DAYLIGHT
END:VTIMEZONE
END:VCALENDAR
