BEGIN:VCALENDAR
VERSION:2.0
PRODID:-//Plone.org//NONSGML plone.app.event//EN
X-WR-TIMEZONE:Europe/Berlin
BEGIN:VEVENT
SUMMARY:Circolo della scienza Benessere\, cultura e vita attiva
DTSTART;TZID=Europe/Berlin;VALUE=DATE-TIME:20251013T080000
DTEND;TZID=Europe/Berlin;VALUE=DATE-TIME:20251110T090000
DTSTAMP;VALUE=DATE-TIME:20260422T210145Z
UID:6c3af52c63c14a419fc35ec78b46ab3e@www.isprambiente.gov.it
CONTACT:https://www.muse.it/eventi/circolo-della-scienza-2025/
CREATED;VALUE=DATE-TIME:20251013T064854Z
LAST-MODIFIED;VALUE=DATE-TIME:20251013T064923Z
URL:https://www.isprambiente.gov.it/it/attivita/museo/calendario-eventi/20
 25/circolo-della-scienza-benessere-cultura-e-vita-attiva
END:VEVENT
BEGIN:VTIMEZONE
TZID:Europe/Berlin
X-LIC-LOCATION:Europe/Berlin
BEGIN:DAYLIGHT
DTSTART;VALUE=DATE-TIME:20250330T030000
TZNAME:CEST
TZOFFSETFROM:+0100
TZOFFSETTO:+0200
END:DAYLIGHT
BEGIN:STANDARD
DTSTART;VALUE=DATE-TIME:20251026T020000
TZNAME:CET
TZOFFSETFROM:+0200
TZOFFSETTO:+0100
END:STANDARD
END:VTIMEZONE
END:VCALENDAR
