BEGIN:VCALENDAR
VERSION:2.0
PRODID:-//Plone.org//NONSGML plone.app.event//EN
X-WR-TIMEZONE:Europe/Berlin
BEGIN:VEVENT
SUMMARY:Citizen Science Fair
DTSTART;TZID=Europe/Berlin;VALUE=DATE-TIME:20251214T090000
DTEND;TZID=Europe/Berlin;VALUE=DATE-TIME:20251214T100000
DTSTAMP;VALUE=DATE-TIME:20260422T205319Z
UID:1e69df5adfeb4a9eae71501f9cf4aec3@www.isprambiente.gov.it
CONTACT:https://www.muse.it/eventi/citizen-science-fair-la-scienza-incontr
 a-la-comunita-2025/
CREATED;VALUE=DATE-TIME:20251211T081636Z
LAST-MODIFIED;VALUE=DATE-TIME:20251211T081639Z
URL:https://www.isprambiente.gov.it/it/attivita/museo/calendario-eventi/20
 25/citizen-science-fair
END:VEVENT
BEGIN:VTIMEZONE
TZID:Europe/Berlin
X-LIC-LOCATION:Europe/Berlin
BEGIN:STANDARD
DTSTART;VALUE=DATE-TIME:20251026T020000
TZNAME:CET
TZOFFSETFROM:+0200
TZOFFSETTO:+0100
END:STANDARD
END:VTIMEZONE
END:VCALENDAR
