BEGIN:VCALENDAR
VERSION:2.0
PRODID:-//Plone.org//NONSGML plone.app.event//EN
X-WR-TIMEZONE:Europe/Berlin
BEGIN:VEVENT
SUMMARY:Comunicare la scienza: linguaggi e strategie
DTSTART;TZID=Europe/Berlin;VALUE=DATE-TIME:20251025T070000
DTEND;TZID=Europe/Berlin;VALUE=DATE-TIME:20251025T080000
DTSTAMP;VALUE=DATE-TIME:20260422T205356Z
UID:0c1398f95fb343668e1e8be857932b48@www.isprambiente.gov.it
CONTACT:https://www.msn.unipi.it/it/eventi/comunicare-la-scienza-linguaggi
 -e-strategie/
CREATED;VALUE=DATE-TIME:20251023T054036Z
LAST-MODIFIED;VALUE=DATE-TIME:20251023T054043Z
URL:https://www.isprambiente.gov.it/it/attivita/museo/calendario-eventi/20
 25/comunicare-la-scienza-linguaggi-e-strategie
END:VEVENT
BEGIN:VTIMEZONE
TZID:Europe/Berlin
X-LIC-LOCATION:Europe/Berlin
BEGIN:DAYLIGHT
DTSTART;VALUE=DATE-TIME:20250330T030000
TZNAME:CEST
TZOFFSETFROM:+0100
TZOFFSETTO:+0200
END:DAYLIGHT
END:VTIMEZONE
END:VCALENDAR
