BEGIN:VCALENDAR
VERSION:2.0
PRODID:-//Plone.org//NONSGML plone.app.event//EN
X-WR-TIMEZONE:Europe/Berlin
BEGIN:VEVENT
SUMMARY:Conferenza internazionale “Borderless Museums: Redefining Museum
  Narratives and Inclusivity”
DTSTART;TZID=Europe/Berlin;VALUE=DATE-TIME:20250518T080000
DTEND;TZID=Europe/Berlin;VALUE=DATE-TIME:20250521T090000
DTSTAMP;VALUE=DATE-TIME:20260422T210237Z
UID:695d8c623f8f48d4924e1dadf30cc47a@www.isprambiente.gov.it
CONTACT:https://www.icom-italia.org/conferenza-internazionale-nova-gorica-
 capitale-europea-della-cultura-musei-senza-confini-ridefinire-le-narrazion
 i-e-linclusivita-18-21-maggio-2025/
CREATED;VALUE=DATE-TIME:20250422T061620Z
LAST-MODIFIED;VALUE=DATE-TIME:20250422T061629Z
URL:https://www.isprambiente.gov.it/it/attivita/museo/calendario-eventi/20
 25/conferenza-internazionale-201cborderless-museums-redefining-museum-narr
 atives-and-inclusivity201d
END:VEVENT
BEGIN:VTIMEZONE
TZID:Europe/Berlin
X-LIC-LOCATION:Europe/Berlin
BEGIN:DAYLIGHT
DTSTART;VALUE=DATE-TIME:20250330T030000
TZNAME:CEST
TZOFFSETFROM:+0100
TZOFFSETTO:+0200
END:DAYLIGHT
END:VTIMEZONE
END:VCALENDAR
