BEGIN:VCALENDAR
VERSION:2.0
PRODID:-//Plone.org//NONSGML plone.app.event//EN
X-WR-TIMEZONE:Europe/Berlin
BEGIN:VEVENT
SUMMARY:Congresso Nazionale Congiunto della Società Italiana di Mineralog
 ia e Petrologia e della Società Geologica Italiana
DTSTART;TZID=Europe/Berlin;VALUE=DATE-TIME:20250916T090000
DTEND;TZID=Europe/Berlin;VALUE=DATE-TIME:20250918T100000
DTSTAMP;VALUE=DATE-TIME:20260422T211218Z
UID:59a89c1d0c074beb977a253a3e87b9c0@www.isprambiente.gov.it
CONTACT:https://www.socgeol.it/N6747/dal-16-al-18-settembre-a-padova-il-co
 ngresso-nazionale-congiunto-della-societa-italiana-di-mineralogia-e-petrol
 ogia-e-della-societa-geologica-italiana-con-ben-1100-ricerche-che-saranno-
 presentate-per-la-prima-volta.html
CREATED;VALUE=DATE-TIME:20250901T070125Z
LAST-MODIFIED;VALUE=DATE-TIME:20250901T070131Z
URL:https://www.isprambiente.gov.it/it/attivita/museo/calendario-eventi/20
 25/congresso-nazionale-congiunto-della-societa-italiana-di-mineralogia-e-p
 etrologia-e-della-societa-geologica-italiana
END:VEVENT
BEGIN:VTIMEZONE
TZID:Europe/Berlin
X-LIC-LOCATION:Europe/Berlin
BEGIN:DAYLIGHT
DTSTART;VALUE=DATE-TIME:20250330T030000
TZNAME:CEST
TZOFFSETFROM:+0100
TZOFFSETTO:+0200
END:DAYLIGHT
END:VTIMEZONE
END:VCALENDAR
