BEGIN:VCALENDAR
VERSION:2.0
PRODID:-//Plone.org//NONSGML plone.app.event//EN
X-WR-TIMEZONE:Europe/Berlin
BEGIN:VEVENT
SUMMARY:CONTEMPORANEO NON-STOP. Il respiro della natura
DTSTART;TZID=Europe/Berlin;VALUE=DATE-TIME:20251013T080000
DTEND;TZID=Europe/Berlin;VALUE=DATE-TIME:20260920T090000
DTSTAMP;VALUE=DATE-TIME:20260422T210237Z
UID:d9b972056ac14ac99671086c103e50f3@www.isprambiente.gov.it
CONTACT:https://gam.comune.verona.it/nqcontent.cfm?a_id=88915
CREATED;VALUE=DATE-TIME:20251013T065044Z
LAST-MODIFIED;VALUE=DATE-TIME:20251013T065053Z
URL:https://www.isprambiente.gov.it/it/attivita/museo/calendario-eventi/20
 25/contemporaneo-non-stop-il-respiro-della-natura
END:VEVENT
BEGIN:VTIMEZONE
TZID:Europe/Berlin
X-LIC-LOCATION:Europe/Berlin
BEGIN:DAYLIGHT
DTSTART;VALUE=DATE-TIME:20250330T030000
TZNAME:CEST
TZOFFSETFROM:+0100
TZOFFSETTO:+0200
END:DAYLIGHT
BEGIN:DAYLIGHT
DTSTART;VALUE=DATE-TIME:20260329T030000
TZNAME:CEST
TZOFFSETFROM:+0100
TZOFFSETTO:+0200
END:DAYLIGHT
END:VTIMEZONE
END:VCALENDAR
