BEGIN:VCALENDAR
VERSION:2.0
PRODID:-//Plone.org//NONSGML plone.app.event//EN
X-WR-TIMEZONE:Europe/Berlin
BEGIN:VEVENT
SUMMARY:Convegno “Cambiamenti climatici e rischi conseguenti: l’equazi
 one dei disastri”
DTSTART;TZID=Europe/Berlin;VALUE=DATE-TIME:20250321T070000
DTEND;TZID=Europe/Berlin;VALUE=DATE-TIME:20250321T080000
DTSTAMP;VALUE=DATE-TIME:20260422T210252Z
UID:5caee3e9c13a4e8892a9c5c34a585e88@www.isprambiente.gov.it
CONTACT:https://www.cngeologi.it/2025/02/13/convegno-cambiamenti-climatici
 -e-rischi-conseguenti-lequazione-dei-disastri-baronissi-21-marzo-2025/
CREATED;VALUE=DATE-TIME:20250303T063845Z
LAST-MODIFIED;VALUE=DATE-TIME:20250303T063851Z
URL:https://www.isprambiente.gov.it/it/attivita/museo/calendario-eventi/20
 25/convegno-201ccambiamenti-climatici-e-rischi-conseguenti-l2019equazione-
 dei-disastri201d
END:VEVENT
BEGIN:VTIMEZONE
TZID:Europe/Berlin
X-LIC-LOCATION:Europe/Berlin
BEGIN:STANDARD
DTSTART;VALUE=DATE-TIME:20241027T020000
TZNAME:CET
TZOFFSETFROM:+0200
TZOFFSETTO:+0100
END:STANDARD
END:VTIMEZONE
END:VCALENDAR
