BEGIN:VCALENDAR
VERSION:2.0
PRODID:-//Plone.org//NONSGML plone.app.event//EN
X-WR-TIMEZONE:Europe/Berlin
BEGIN:VEVENT
SUMMARY:Convegno “Dal rischio residuo al rischio accettabile: nuove pros
 pettive nella gestione del rischio da frana”
DTSTART;TZID=Europe/Berlin;VALUE=DATE-TIME:20250516T080000
DTEND;TZID=Europe/Berlin;VALUE=DATE-TIME:20250516T090000
DTSTAMP;VALUE=DATE-TIME:20260422T222543Z
UID:cdd87cbda0c6402d91293d036530db82@www.isprambiente.gov.it
CONTACT:https://www.isprambiente.gov.it/it/news/dal-rischio-residuo-al-ris
 chio-accettabile-nuove-prospettive-nella-gestione-del-rischio-da-frana
CREATED;VALUE=DATE-TIME:20250422T061834Z
LAST-MODIFIED;VALUE=DATE-TIME:20250521T111913Z
URL:https://www.isprambiente.gov.it/it/attivita/museo/calendario-eventi/20
 25/convegno-201cdal-rischio-residuo-al-rischio-accettabile-nuove-prospetti
 ve-nella-gestione-del-rischio-da-frana201d
END:VEVENT
BEGIN:VTIMEZONE
TZID:Europe/Berlin
X-LIC-LOCATION:Europe/Berlin
BEGIN:DAYLIGHT
DTSTART;VALUE=DATE-TIME:20250330T030000
TZNAME:CEST
TZOFFSETFROM:+0100
TZOFFSETTO:+0200
END:DAYLIGHT
END:VTIMEZONE
END:VCALENDAR
