BEGIN:VCALENDAR
VERSION:2.0
PRODID:-//Plone.org//NONSGML plone.app.event//EN
X-WR-TIMEZONE:Europe/Berlin
BEGIN:VEVENT
SUMMARY:Convegno Nazionale SIMBDEA
DTSTART;TZID=Europe/Berlin;VALUE=DATE-TIME:20250612T080000
DTEND;TZID=Europe/Berlin;VALUE=DATE-TIME:20250613T090000
DTSTAMP;VALUE=DATE-TIME:20260422T205520Z
UID:004e8a51abc440d782d67e5a73aa96f9@www.isprambiente.gov.it
CONTACT:http://www.simbdea.it/index.php/convegni/convegno-2025
CREATED;VALUE=DATE-TIME:20250303T070129Z
LAST-MODIFIED;VALUE=DATE-TIME:20250303T070133Z
URL:https://www.isprambiente.gov.it/it/attivita/museo/calendario-eventi/20
 25/convegno-nazionale-simbdea
END:VEVENT
BEGIN:VTIMEZONE
TZID:Europe/Berlin
X-LIC-LOCATION:Europe/Berlin
BEGIN:DAYLIGHT
DTSTART;VALUE=DATE-TIME:20250330T030000
TZNAME:CEST
TZOFFSETFROM:+0100
TZOFFSETTO:+0200
END:DAYLIGHT
END:VTIMEZONE
END:VCALENDAR
