BEGIN:VCALENDAR
VERSION:2.0
PRODID:-//Plone.org//NONSGML plone.app.event//EN
X-WR-TIMEZONE:Europe/Berlin
BEGIN:VEVENT
SUMMARY:Convegno Nazionale UIZA 2025 - Parchi zoologici e Acquari per inve
 rtire la rotta
DTSTART;TZID=Europe/Berlin;VALUE=DATE-TIME:20251009T110000
DTEND;TZID=Europe/Berlin;VALUE=DATE-TIME:20251011T120000
DTSTAMP;VALUE=DATE-TIME:20260422T210302Z
UID:8261fe5825d340dba36e4aa3aa06d2ba@www.isprambiente.gov.it
CONTACT:https://uiza.org/convegno2025/
CREATED;VALUE=DATE-TIME:20251007T090334Z
LAST-MODIFIED;VALUE=DATE-TIME:20251007T090343Z
URL:https://www.isprambiente.gov.it/it/attivita/museo/calendario-eventi/20
 25/convegno-nazionale-uiza-2025-parchi-zoologici-e-acquari-per-invertire-l
 a-rotta
END:VEVENT
BEGIN:VTIMEZONE
TZID:Europe/Berlin
X-LIC-LOCATION:Europe/Berlin
BEGIN:DAYLIGHT
DTSTART;VALUE=DATE-TIME:20250330T030000
TZNAME:CEST
TZOFFSETFROM:+0100
TZOFFSETTO:+0200
END:DAYLIGHT
END:VTIMEZONE
END:VCALENDAR
