BEGIN:VCALENDAR
VERSION:2.0
PRODID:-//Plone.org//NONSGML plone.app.event//EN
X-WR-TIMEZONE:Europe/Berlin
BEGIN:VEVENT
SUMMARY:COP30
DTSTART;TZID=Europe/Berlin;VALUE=DATE-TIME:20251112T090000
DTEND;TZID=Europe/Berlin;VALUE=DATE-TIME:20251121T100000
DTSTAMP;VALUE=DATE-TIME:20260422T205319Z
UID:c3461c5858db4afba1808a6c8a49052b@www.isprambiente.gov.it
CONTACT:https://www.mase.gov.it/portale/cop30
CREATED;VALUE=DATE-TIME:20251112T085056Z
LAST-MODIFIED;VALUE=DATE-TIME:20251112T085120Z
URL:https://www.isprambiente.gov.it/it/attivita/museo/calendario-eventi/20
 25/cop30
END:VEVENT
BEGIN:VTIMEZONE
TZID:Europe/Berlin
X-LIC-LOCATION:Europe/Berlin
BEGIN:STANDARD
DTSTART;VALUE=DATE-TIME:20251026T020000
TZNAME:CET
TZOFFSETFROM:+0200
TZOFFSETTO:+0100
END:STANDARD
END:VTIMEZONE
END:VCALENDAR
