BEGIN:VCALENDAR
VERSION:2.0
PRODID:-//Plone.org//NONSGML plone.app.event//EN
X-WR-TIMEZONE:Europe/Berlin
BEGIN:VEVENT
SUMMARY:Corso di formazione “Il Museo e l’Educazione non formale”
DTSTART;TZID=Europe/Berlin;VALUE=DATE-TIME:20251127T080000
DTEND;TZID=Europe/Berlin;VALUE=DATE-TIME:20251128T090000
DTSTAMP;VALUE=DATE-TIME:20260422T222429Z
UID:bce5ebf2ae254a2e931ca3c0bbc5816f@www.isprambiente.gov.it
CONTACT:https://www.msn.unipi.it/it/eventi/corso-di-formazione-il-museo-e-
 leducazione-non-formale/
CREATED;VALUE=DATE-TIME:20251117T073940Z
LAST-MODIFIED;VALUE=DATE-TIME:20251117T073943Z
URL:https://www.isprambiente.gov.it/it/attivita/museo/calendario-eventi/20
 25/corso-di-formazione-201cil-museo-e-l2019educazione-non-formale201d
END:VEVENT
BEGIN:VTIMEZONE
TZID:Europe/Berlin
X-LIC-LOCATION:Europe/Berlin
BEGIN:STANDARD
DTSTART;VALUE=DATE-TIME:20251026T020000
TZNAME:CET
TZOFFSETFROM:+0200
TZOFFSETTO:+0100
END:STANDARD
END:VTIMEZONE
END:VCALENDAR
