BEGIN:VCALENDAR
VERSION:2.0
PRODID:-//Plone.org//NONSGML plone.app.event//EN
X-WR-TIMEZONE:Europe/Berlin
BEGIN:VEVENT
SUMMARY:Corso di modellizzazione 3D degli acquiferi sotterranei e EFG Spri
 ng Meeting
DTSTART;TZID=Europe/Berlin;VALUE=DATE-TIME:20250514T080000
DTEND;TZID=Europe/Berlin;VALUE=DATE-TIME:20250518T090000
DTSTAMP;VALUE=DATE-TIME:20260422T222529Z
UID:640ff47d259843a6929afd1837ad8e10@www.isprambiente.gov.it
CONTACT:https://www.cngeologi.it/2025/02/11/corso-di-modellizzazione-3d-de
 gli-acquiferi-sotterranei-e-efg-spring-meeting/
CREATED;VALUE=DATE-TIME:20250422T061727Z
LAST-MODIFIED;VALUE=DATE-TIME:20250422T061730Z
URL:https://www.isprambiente.gov.it/it/attivita/museo/calendario-eventi/20
 25/corso-di-modellizzazione-3d-degli-acquiferi-sotterranei-e-efg-spring-me
 eting
END:VEVENT
BEGIN:VTIMEZONE
TZID:Europe/Berlin
X-LIC-LOCATION:Europe/Berlin
BEGIN:DAYLIGHT
DTSTART;VALUE=DATE-TIME:20250330T030000
TZNAME:CEST
TZOFFSETFROM:+0100
TZOFFSETTO:+0200
END:DAYLIGHT
END:VTIMEZONE
END:VCALENDAR
