BEGIN:VCALENDAR
VERSION:2.0
PRODID:-//Plone.org//NONSGML plone.app.event//EN
X-WR-TIMEZONE:Europe/Berlin
BEGIN:VEVENT
SUMMARY:Creature fantastiche : il mito prende forma
DTSTART;TZID=Europe/Berlin;VALUE=DATE-TIME:20250303T070000
DTEND;TZID=Europe/Berlin;VALUE=DATE-TIME:20251031T080000
DTSTAMP;VALUE=DATE-TIME:20260422T205356Z
UID:a4ccd4815e384211a772f9bf69febf50@www.isprambiente.gov.it
CONTACT:https://musmed.provincia.livorno.it/portal/web/guest/w/mostra-crea
 ture
CREATED;VALUE=DATE-TIME:20250303T065843Z
LAST-MODIFIED;VALUE=DATE-TIME:20250303T065847Z
URL:https://www.isprambiente.gov.it/it/attivita/museo/calendario-eventi/20
 25/creature-fantastiche-il-mito-prende-forma
END:VEVENT
BEGIN:VTIMEZONE
TZID:Europe/Berlin
X-LIC-LOCATION:Europe/Berlin
BEGIN:STANDARD
DTSTART;VALUE=DATE-TIME:20241027T020000
TZNAME:CET
TZOFFSETFROM:+0200
TZOFFSETTO:+0100
END:STANDARD
BEGIN:STANDARD
DTSTART;VALUE=DATE-TIME:20251026T020000
TZNAME:CET
TZOFFSETFROM:+0200
TZOFFSETTO:+0100
END:STANDARD
END:VTIMEZONE
END:VCALENDAR
