BEGIN:VCALENDAR
VERSION:2.0
PRODID:-//Plone.org//NONSGML plone.app.event//EN
X-WR-TIMEZONE:Europe/Berlin
BEGIN:VEVENT
SUMMARY:Custodire la Terra: Musei demoetnoantropologici nel mondo contempo
 raneo
DTSTART;TZID=Europe/Berlin;VALUE=DATE-TIME:20251024T070000
DTEND;TZID=Europe/Berlin;VALUE=DATE-TIME:20251025T080000
DTSTAMP;VALUE=DATE-TIME:20260422T210303Z
UID:4cd045f374f84d48a9bde1682d01a678@www.isprambiente.gov.it
CONTACT:https://patrimonioculturale.regione.emilia-romagna.it/novita/notiz
 ie/in-evidenza/custodire-la-terra-musei-demoetnoantropologici-nel-mondo-co
 ntemporaneo
CREATED;VALUE=DATE-TIME:20251023T054145Z
LAST-MODIFIED;VALUE=DATE-TIME:20251023T054149Z
URL:https://www.isprambiente.gov.it/it/attivita/museo/calendario-eventi/20
 25/custodire-la-terra-musei-demoetnoantropologici-nel-mondo-contemporaneo
END:VEVENT
BEGIN:VTIMEZONE
TZID:Europe/Berlin
X-LIC-LOCATION:Europe/Berlin
BEGIN:DAYLIGHT
DTSTART;VALUE=DATE-TIME:20250330T030000
TZNAME:CEST
TZOFFSETFROM:+0100
TZOFFSETTO:+0200
END:DAYLIGHT
END:VTIMEZONE
END:VCALENDAR
