BEGIN:VCALENDAR
VERSION:2.0
PRODID:-//Plone.org//NONSGML plone.app.event//EN
X-WR-TIMEZONE:Europe/Berlin
BEGIN:VEVENT
SUMMARY:Dal ghiaccio a noi. Le ricerche MUSE sui ghiacciai nell’Antropoc
 ene
DTSTART;TZID=Europe/Berlin;VALUE=DATE-TIME:20250328T080000
DTEND;TZID=Europe/Berlin;VALUE=DATE-TIME:20251109T090000
DTSTAMP;VALUE=DATE-TIME:20260422T210251Z
UID:4fd7338ac373430f9f5b27d80fec483c@www.isprambiente.gov.it
CONTACT:https://www.muse.it/cs-dal-ghiaccio-a-noi-le-ricerche-muse-sui-ghi
 acciai-nellantropocene/
CREATED;VALUE=DATE-TIME:20250328T073506Z
LAST-MODIFIED;VALUE=DATE-TIME:20250328T073510Z
URL:https://www.isprambiente.gov.it/it/attivita/museo/calendario-eventi/20
 25/dal-ghiaccio-a-noi-le-ricerche-muse-sui-ghiacciai-nell2019antropocene
END:VEVENT
BEGIN:VTIMEZONE
TZID:Europe/Berlin
X-LIC-LOCATION:Europe/Berlin
BEGIN:STANDARD
DTSTART;VALUE=DATE-TIME:20241027T020000
TZNAME:CET
TZOFFSETFROM:+0200
TZOFFSETTO:+0100
END:STANDARD
BEGIN:STANDARD
DTSTART;VALUE=DATE-TIME:20251026T020000
TZNAME:CET
TZOFFSETFROM:+0200
TZOFFSETTO:+0100
END:STANDARD
END:VTIMEZONE
END:VCALENDAR
