BEGIN:VCALENDAR
VERSION:2.0
PRODID:-//Plone.org//NONSGML plone.app.event//EN
X-WR-TIMEZONE:Europe/Berlin
BEGIN:VEVENT
SUMMARY:Dinosaurs Live
DTSTART;TZID=Europe/Berlin;VALUE=DATE-TIME:20250314T070000
DTEND;TZID=Europe/Berlin;VALUE=DATE-TIME:20250330T080000
DTSTAMP;VALUE=DATE-TIME:20260422T221217Z
UID:5d5ea17e7bf44cedbb167ed46739777c@www.isprambiente.gov.it
CONTACT:https://www.dinosaurslive.it/
CREATED;VALUE=DATE-TIME:20250314T062402Z
LAST-MODIFIED;VALUE=DATE-TIME:20250314T062441Z
URL:https://www.isprambiente.gov.it/it/attivita/museo/calendario-eventi/20
 25/dinosaurs-live
END:VEVENT
BEGIN:VTIMEZONE
TZID:Europe/Berlin
X-LIC-LOCATION:Europe/Berlin
BEGIN:STANDARD
DTSTART;VALUE=DATE-TIME:20241027T020000
TZNAME:CET
TZOFFSETFROM:+0200
TZOFFSETTO:+0100
END:STANDARD
BEGIN:DAYLIGHT
DTSTART;VALUE=DATE-TIME:20250330T030000
TZNAME:CEST
TZOFFSETFROM:+0100
TZOFFSETTO:+0200
END:DAYLIGHT
END:VTIMEZONE
END:VCALENDAR
