BEGIN:VCALENDAR
VERSION:2.0
PRODID:-//Plone.org//NONSGML plone.app.event//EN
X-WR-TIMEZONE:Europe/Berlin
BEGIN:VEVENT
SUMMARY:Dolomiti\, geologia da scoprire e raccontare
DTSTART;TZID=Europe/Berlin;VALUE=DATE-TIME:20250428T080000
DTEND;TZID=Europe/Berlin;VALUE=DATE-TIME:20250428T090000
DTSTAMP;VALUE=DATE-TIME:20260422T205648Z
UID:1b33db20980f481e8ede7d22b90ef7cd@www.isprambiente.gov.it
CONTACT:https://www.dolomitiunesco.info/attivita/convegno-geologia-28-apri
 le-trento-film-festival
CREATED;VALUE=DATE-TIME:20250422T061017Z
LAST-MODIFIED;VALUE=DATE-TIME:20250422T061021Z
URL:https://www.isprambiente.gov.it/it/attivita/museo/calendario-eventi/20
 25/dolomiti-geologia-da-scoprire-e-raccontare
END:VEVENT
BEGIN:VTIMEZONE
TZID:Europe/Berlin
X-LIC-LOCATION:Europe/Berlin
BEGIN:DAYLIGHT
DTSTART;VALUE=DATE-TIME:20250330T030000
TZNAME:CEST
TZOFFSETFROM:+0100
TZOFFSETTO:+0200
END:DAYLIGHT
END:VTIMEZONE
END:VCALENDAR
