BEGIN:VCALENDAR
VERSION:2.0
PRODID:-//Plone.org//NONSGML plone.app.event//EN
X-WR-TIMEZONE:Europe/Berlin
BEGIN:VEVENT
SUMMARY:DoMus. Domeniche (e non solo) al Museo per imparare divertendosi
DTSTART;TZID=Europe/Berlin;VALUE=DATE-TIME:20251123T080000
DTEND;TZID=Europe/Berlin;VALUE=DATE-TIME:20260523T090000
DTSTAMP;VALUE=DATE-TIME:20260422T205727Z
UID:23b65e1119c049ca9a75f593293b0244@www.isprambiente.gov.it
CONTACT:https://www.sma.unipi.it/2025/11/domus-attivita-per-famiglie/
CREATED;VALUE=DATE-TIME:20251117T073710Z
LAST-MODIFIED;VALUE=DATE-TIME:20251117T073719Z
URL:https://www.isprambiente.gov.it/it/attivita/museo/calendario-eventi/20
 25/domus-domeniche-e-non-solo-al-museo-per-imparare-divertendosi
END:VEVENT
BEGIN:VTIMEZONE
TZID:Europe/Berlin
X-LIC-LOCATION:Europe/Berlin
BEGIN:STANDARD
DTSTART;VALUE=DATE-TIME:20251026T020000
TZNAME:CET
TZOFFSETFROM:+0200
TZOFFSETTO:+0100
END:STANDARD
BEGIN:DAYLIGHT
DTSTART;VALUE=DATE-TIME:20260329T030000
TZNAME:CEST
TZOFFSETFROM:+0100
TZOFFSETTO:+0200
END:DAYLIGHT
END:VTIMEZONE
END:VCALENDAR
