BEGIN:VCALENDAR
VERSION:2.0
PRODID:-//Plone.org//NONSGML plone.app.event//EN
X-WR-TIMEZONE:Europe/Berlin
BEGIN:VEVENT
SUMMARY:Ecomondo
DTSTART;TZID=Europe/Berlin;VALUE=DATE-TIME:20251104T070000
DTEND;TZID=Europe/Berlin;VALUE=DATE-TIME:20251107T080000
DTSTAMP;VALUE=DATE-TIME:20260422T205319Z
UID:2c82d164a0064105b0e262fda0f87cc1@www.isprambiente.gov.it
CONTACT:https://www.ecomondo.com/it
CREATED;VALUE=DATE-TIME:20251023T053147Z
LAST-MODIFIED;VALUE=DATE-TIME:20251023T053151Z
URL:https://www.isprambiente.gov.it/it/attivita/museo/calendario-eventi/20
 25/ecomondo
END:VEVENT
BEGIN:VTIMEZONE
TZID:Europe/Berlin
X-LIC-LOCATION:Europe/Berlin
BEGIN:STANDARD
DTSTART;VALUE=DATE-TIME:20251026T020000
TZNAME:CET
TZOFFSETFROM:+0200
TZOFFSETTO:+0100
END:STANDARD
END:VTIMEZONE
END:VCALENDAR
