BEGIN:VCALENDAR
VERSION:2.0
PRODID:-//Plone.org//NONSGML plone.app.event//EN
X-WR-TIMEZONE:Europe/Berlin
BEGIN:VEVENT
SUMMARY:ECOSISTEMI IMMAGINARI
DTSTART;TZID=Europe/Berlin;VALUE=DATE-TIME:20251128T070000
DTEND;TZID=Europe/Berlin;VALUE=DATE-TIME:20260215T080000
DTSTAMP;VALUE=DATE-TIME:20260422T221315Z
UID:2306ab41ba22416990e7a51f1e56cdd0@www.isprambiente.gov.it
CONTACT:https://www.museoscienzebergamo.it/post/ecosistemi-immaginari/
CREATED;VALUE=DATE-TIME:20251128T062948Z
LAST-MODIFIED;VALUE=DATE-TIME:20251128T062952Z
URL:https://www.isprambiente.gov.it/it/attivita/museo/calendario-eventi/20
 25/ecosistemi-immaginari
END:VEVENT
BEGIN:VTIMEZONE
TZID:Europe/Berlin
X-LIC-LOCATION:Europe/Berlin
BEGIN:STANDARD
DTSTART;VALUE=DATE-TIME:20251026T020000
TZNAME:CET
TZOFFSETFROM:+0200
TZOFFSETTO:+0100
END:STANDARD
END:VTIMEZONE
END:VCALENDAR
