BEGIN:VCALENDAR
VERSION:2.0
PRODID:-//Plone.org//NONSGML plone.app.event//EN
X-WR-TIMEZONE:Europe/Berlin
BEGIN:VEVENT
SUMMARY:Euromineralexpo 2025: dinosauri\, oro e fossili per i bambini
DTSTART;TZID=Europe/Berlin;VALUE=DATE-TIME:20251003T130000
DTEND;TZID=Europe/Berlin;VALUE=DATE-TIME:20251005T140000
DTSTAMP;VALUE=DATE-TIME:20260422T222536Z
UID:828d531284de4cad918b5d67e7d15de0@www.isprambiente.gov.it
CREATED;VALUE=DATE-TIME:20250926T113117Z
LAST-MODIFIED;VALUE=DATE-TIME:20250926T113122Z
URL:https://www.isprambiente.gov.it/it/attivita/museo/calendario-eventi/20
 25/euromineralexpo-2025-dinosauri-oro-e-fossili-per-i-bambini
END:VEVENT
BEGIN:VTIMEZONE
TZID:Europe/Berlin
X-LIC-LOCATION:Europe/Berlin
BEGIN:DAYLIGHT
DTSTART;VALUE=DATE-TIME:20250330T030000
TZNAME:CEST
TZOFFSETFROM:+0100
TZOFFSETTO:+0200
END:DAYLIGHT
END:VTIMEZONE
END:VCALENDAR
