BEGIN:VCALENDAR
VERSION:2.0
PRODID:-//Plone.org//NONSGML plone.app.event//EN
X-WR-TIMEZONE:Europe/Berlin
BEGIN:VEVENT
SUMMARY:Fiera Minerali e Bijoux
DTSTART;TZID=Europe/Berlin;VALUE=DATE-TIME:20250607T080000
DTEND;TZID=Europe/Berlin;VALUE=DATE-TIME:20250608T090000
DTSTAMP;VALUE=DATE-TIME:20260422T205357Z
UID:6d6424751a624d4b9db7c4cc49e385e7@www.isprambiente.gov.it
CONTACT:https://www.fieraminerali.it/
CREATED;VALUE=DATE-TIME:20250526T062800Z
LAST-MODIFIED;VALUE=DATE-TIME:20250526T062815Z
URL:https://www.isprambiente.gov.it/it/attivita/museo/calendario-eventi/20
 25/fiera-minerali-e-bijoux
END:VEVENT
BEGIN:VTIMEZONE
TZID:Europe/Berlin
X-LIC-LOCATION:Europe/Berlin
BEGIN:DAYLIGHT
DTSTART;VALUE=DATE-TIME:20250330T030000
TZNAME:CEST
TZOFFSETFROM:+0100
TZOFFSETTO:+0200
END:DAYLIGHT
END:VTIMEZONE
END:VCALENDAR
