BEGIN:VCALENDAR
VERSION:2.0
PRODID:-//Plone.org//NONSGML plone.app.event//EN
X-WR-TIMEZONE:Europe/Berlin
BEGIN:VEVENT
SUMMARY:Geo-dì 2025
DTSTART;TZID=Europe/Berlin;VALUE=DATE-TIME:20250130T110000
DTEND;TZID=Europe/Berlin;VALUE=DATE-TIME:20250131T120000
DTSTAMP;VALUE=DATE-TIME:20260422T205349Z
UID:2294bdcf0de8493ca486b4550a865a24@www.isprambiente.gov.it
CONTACT:https://www.socgeol.it/N6482/geo-di-2025.html
CREATED;VALUE=DATE-TIME:20250129T102931Z
LAST-MODIFIED;VALUE=DATE-TIME:20250129T102943Z
URL:https://www.isprambiente.gov.it/it/attivita/museo/calendario-eventi/20
 25/geo-di-2025
END:VEVENT
BEGIN:VTIMEZONE
TZID:Europe/Berlin
X-LIC-LOCATION:Europe/Berlin
BEGIN:STANDARD
DTSTART;VALUE=DATE-TIME:20241027T020000
TZNAME:CET
TZOFFSETFROM:+0200
TZOFFSETTO:+0100
END:STANDARD
END:VTIMEZONE
END:VCALENDAR
