BEGIN:VCALENDAR
VERSION:2.0
PRODID:-//Plone.org//NONSGML plone.app.event//EN
X-WR-TIMEZONE:Europe/Berlin
BEGIN:VEVENT
SUMMARY:GEO Global Forum 2025
DTSTART;TZID=Europe/Berlin;VALUE=DATE-TIME:20250505T080000
DTEND;TZID=Europe/Berlin;VALUE=DATE-TIME:20250509T090000
DTSTAMP;VALUE=DATE-TIME:20260422T210114Z
UID:7ac6286022264cc595aa5afdf9be77ce@www.isprambiente.gov.it
CONTACT:https://earthobservations.org/about-us/events/geo-global-forum-202
 5
CREATED;VALUE=DATE-TIME:20250505T064306Z
LAST-MODIFIED;VALUE=DATE-TIME:20250505T064314Z
URL:https://www.isprambiente.gov.it/it/attivita/museo/calendario-eventi/20
 25/geo-global-forum-2025
END:VEVENT
BEGIN:VTIMEZONE
TZID:Europe/Berlin
X-LIC-LOCATION:Europe/Berlin
BEGIN:DAYLIGHT
DTSTART;VALUE=DATE-TIME:20250330T030000
TZNAME:CEST
TZOFFSETFROM:+0100
TZOFFSETTO:+0200
END:DAYLIGHT
END:VTIMEZONE
END:VCALENDAR
