BEGIN:VCALENDAR
VERSION:2.0
PRODID:-//Plone.org//NONSGML plone.app.event//EN
X-WR-TIMEZONE:Europe/Berlin
BEGIN:VEVENT
SUMMARY:GeoBra
DTSTART;TZID=Europe/Berlin;VALUE=DATE-TIME:20250329T080000
DTEND;TZID=Europe/Berlin;VALUE=DATE-TIME:20250330T090000
DTSTAMP;VALUE=DATE-TIME:20260422T205319Z
UID:8ba811e4dafa41de8678c4e736057a16@www.isprambiente.gov.it
CONTACT:https://www.comune.bra.cn.it/it/eventi/torna-geobra-al-movicentro-
 la-mostra-mercato-di-minerali-fossili-e
CREATED;VALUE=DATE-TIME:20250317T074746Z
LAST-MODIFIED;VALUE=DATE-TIME:20250317T074753Z
URL:https://www.isprambiente.gov.it/it/attivita/museo/calendario-eventi/20
 25/geobra
END:VEVENT
BEGIN:VTIMEZONE
TZID:Europe/Berlin
X-LIC-LOCATION:Europe/Berlin
BEGIN:STANDARD
DTSTART;VALUE=DATE-TIME:20241027T020000
TZNAME:CET
TZOFFSETFROM:+0200
TZOFFSETTO:+0100
END:STANDARD
BEGIN:DAYLIGHT
DTSTART;VALUE=DATE-TIME:20250330T030000
TZNAME:CEST
TZOFFSETFROM:+0100
TZOFFSETTO:+0200
END:DAYLIGHT
END:VTIMEZONE
END:VCALENDAR
